{"text_format":"3","workbook":"xlsx","n_sheets":13,"sheets":["Jan","Veb","Mär","Apr","Mai","Jun","Jul","Aug","Sep","Okt","Nov","Dets","Aasta"],"not_rendered":{"images":13,"macros":1,"defined_names":25,"comments":1},"read":"whole","date_system":"1900"}

{"sheet":"Jan","index":0,"n_rows":73,"n_cols":13,"rows_kept":73,"merged":[[0,0,0,3],[2,2,3,3],[4,0,4,3],[4,7,4,9],[5,7,8,7],[5,8,8,8],[5,9,8,9],[8,0,9,0],[8,2,9,2],[8,3,9,3],[9,7,9,9],[42,7,42,9],[46,1,46,2],[67,7,67,9],[71,8,71,9]]}
["LAEVAPERE TOITLUSTAMISE ARUANNE"]
["LAEVA NIMI","näide: Suur Tõll"]
["Aasta",2022]
["Kuu","JAANUAR"]
[{"$nulls":7},"TOIDUPÄEVADE TABEL"]
["Toiduraha jääk kuu alguseks:",null,"Jääk eelmise aasta detsembrist:",{"v":0,"d":"0.00 €"},{"$nulls":3},"Nimi","Amet","kalendripäevad"]
["Taara jääk kuu alguseks:",null,null,{"$f":"0","v":{"v":0,"d":"0.00 €"}}]
["SISSETULEK"]
["Kuupäev","Saatedokumendi","Hankefirma","Summa","jääk"]
[null,"nr.",null,null,{"$f":"D43-D32","v":{"v":0,"d":"0.00 €"}},null,null,"LAEVAPERE"]
{"$rows_empty":21}
["Toiduaineid kokku :",null,null,{"$f":"SUM(D11:D31)","v":{"v":0,"d":"0.00 €"}}]
["Taara kokku:",null,null,{"$f":"0","v":{"v":0,"d":"0.00 €"}}]
["VÄLJAMINEK"]
["Laevapere toitlustamine:",null,"päevade arv",{"$f":"SUM(J11:J42)","v":{"v":0,"d":"00"}}]
[null,null,"päeva maksumus",{"v":0,"d":"0.00 €"}]
[null,null,"normsumma",{"$f":"D35*D36","v":{"v":0,"d":"0.00 €"}}]
[null,null,"jääk kuu alguseks",{"$f":"D6","v":{"v":0,"d":"0.00 €"}}]
["Taara tagastus:"]
["Muud väljaminekud:",null,"reisijate toitlustamine",{"$f":"IF(SUM(J43:J67)>0,SUM(J43:J67)*D36,\"\")","v":""}]
[]
[]
["Väljaminek kokku:",null,null,{"$f":"D37+SUM(D39:D42)-D38","v":{"v":0,"d":"0.00 €"}},{"$nulls":3},"REISIJAD"]
[]
[null,"JÄÄK","raha",{"$f":"IF(D32>D43,D32-D43,0)","v":{"v":0,"d":"0.00 €"}}]
[null,null,"taara",{"v":0,"d":"0.00 €"}]
["KAPTEN","nimi"]
["Esitamise kuupäev",{"$f":"NOW()","v":"2022-03-07T13:34:29.930"}]
{"$rows_empty":18}
[{"$nulls":10},"Reisijatel kokku",null,{"$f":"SUM(J44:J67)","v":{"v":0,"d":"00"}}]
[{"$nulls":7},{"$f":"1","v":{"v":1,"d":"01"}}]
[{"$nulls":7},"xxx","Toidupäevade arv kokku",{"$f":"SUM(J11:J42,J43:J67)","v":{"v":0,"d":"00"}}]
[]
[{"$nulls":7},"Aruandeperiood",{"$f":"B4","v":"JAANUAR"},{"$f":"B3","v":2022}]
[{"$nulls":7},"KAPTEN",{"$f":"B47","v":"nimi"}]
[{"$nulls":7},"Esitamise kuupäev",{"$f":"NOW()","v":"2022-03-07T13:34:29.930"}]

{"sheet":"Veb","index":1,"n_rows":73,"n_cols":13,"rows_kept":73,"merged":[[0,0,0,3],[2,2,3,3],[4,0,4,3],[4,7,4,9],[5,7,8,7],[5,8,8,8],[5,9,8,9],[8,0,9,0],[8,2,9,2],[8,3,9,3],[9,7,9,9],[42,7,42,9],[46,1,46,2],[67,7,67,9],[71,8,71,9]]}
["LAEVAPERE TOITLUSTAMISE ARUANNE"]
["LAEVA NIMI",{"$f":"Jan!B2","v":"näide: Suur Tõll"}]
["Aasta",{"$f":"Jan!B3","v":2022},{"$f":"Jan!C3","v":0}]
["Kuu","VEEBRUAR"]
[{"$nulls":7},"TOIDUPÄEVADE TABEL"]
["Toiduraha jääk kuu alguseks:",null,null,{"$f":"Jan!D45","v":{"v":0,"d":"0.00 €"}},{"$nulls":3},"Nimi","Amet","kalendripäevad"]
["Taara jääk kuu alguseks:",null,null,{"$f":"0","v":{"v":0,"d":"0.00 €"}}]
["SISSETULEK"]
["Kuupäev","Saatedokumendi","Hankefirma","Summa","jääk"]
[null,"nr.",null,null,{"$f":"D43-D32","v":{"v":0,"d":"0.00 €"}},null,null,"LAEVAPERE"]
[{"$nulls":7},{"$f":"Jan!H11","v":0},{"$f":"Jan!I11","v":0}]
[{"$nulls":7},{"$f":"Jan!H12","v":0},{"$f":"Jan!I12","v":0}]
[{"$nulls":7},{"$f":"Jan!H13","v":0},{"$f":"Jan!I13","v":0}]
[{"$nulls":7},{"$f":"Jan!H14","v":0},{"$f":"Jan!I14","v":0}]
[{"$nulls":7},{"$f":"Jan!H15","v":0},{"$f":"Jan!I15","v":0}]
[{"$nulls":7},{"$f":"Jan!H16","v":0},{"$f":"Jan!I16","v":0}]
[{"$nulls":7},{"$f":"Jan!H17","v":0},{"$f":"Jan!I17","v":0}]
[{"$nulls":7},{"$f":"Jan!H18","v":0},{"$f":"Jan!I18","v":0}]
[{"$nulls":7},{"$f":"Jan!H19","v":0},{"$f":"Jan!I19","v":0}]
[{"$nulls":7},{"$f":"Jan!H20","v":0},{"$f":"Jan!I20","v":0}]
[{"$nulls":7},{"$f":"Jan!H21","v":0},{"$f":"Jan!I21","v":0}]
[{"$nulls":7},{"$f":"Jan!H22","v":0},{"$f":"Jan!I22","v":0}]
[{"$nulls":7},{"$f":"Jan!H23","v":0},{"$f":"Jan!I23","v":0}]
[{"$nulls":7},{"$f":"Jan!H24","v":0},{"$f":"Jan!I24","v":0}]
[{"$nulls":7},{"$f":"Jan!H25","v":0},{"$f":"Jan!I25","v":0}]
[{"$nulls":7},{"$f":"Jan!H26","v":0},{"$f":"Jan!I26","v":0}]
[{"$nulls":7},{"$f":"Jan!H27","v":0},{"$f":"Jan!I27","v":0}]
[{"$nulls":7},{"$f":"Jan!H28","v":0},{"$f":"Jan!I28","v":0}]
[{"$nulls":7},{"$f":"Jan!H29","v":0},{"$f":"Jan!I29","v":0}]
[{"$nulls":7},{"$f":"Jan!H30","v":0},{"$f":"Jan!I30","v":0}]
[{"$nulls":7},{"$f":"Jan!H31","v":0},{"$f":"Jan!I31","v":0}]
["Toiduaineid kokku :",null,null,{"$f":"SUM(D11:D31)","v":{"v":0,"d":"0.00 €"}},{"$nulls":3},{"$f":"Jan!H32","v":0},{"$f":"Jan!I32","v":0}]
["Taara kokku:",null,null,{"$f":"0","v":{"v":0,"d":"0.00 €"}},{"$nulls":3},{"$f":"Jan!H33","v":0},{"$f":"Jan!I33","v":0}]
["VÄLJAMINEK",{"$nulls":6},{"$f":"Jan!H34","v":0},{"$f":"Jan!I34","v":0}]
["Laevapere toitlustamine:",null,"päevade arv",{"$f":"SUM(J11:J42)","v":{"v":0,"d":"00"}},{"$nulls":3},{"$f":"Jan!H35","v":0},{"$f":"Jan!I35","v":0}]
[null,null,"päeva maksumus",{"v":0,"d":"0.00 €"},{"$nulls":3},{"$f":"Jan!H36","v":0},{"$f":"Jan!I36","v":0}]
[null,null,"normsumma",{"$f":"D35*D36","v":{"v":0,"d":"0.00 €"}},{"$nulls":3},{"$f":"Jan!H37","v":0},{"$f":"Jan!I37","v":0}]
[null,null,"jääk kuu alguseks",{"$f":"D6","v":{"v":0,"d":"0.00 €"}},{"$nulls":3},{"$f":"Jan!H38","v":0},{"$f":"Jan!I38","v":0}]
["Taara tagastus:",{"$nulls":6},{"$f":"Jan!H39","v":0},{"$f":"Jan!I39","v":0}]
["Muud väljaminekud:",null,"reisijate toitlustamine",{"$f":"IF(SUM(J43:J67)>0,SUM(J43:J67)*D36,\"\")","v":""},{"$nulls":3},{"$f":"Jan!H40","v":0},{"$f":"Jan!I40","v":0}]
[{"$nulls":7},{"$f":"Jan!H41","v":0},{"$f":"Jan!I41","v":0}]
[{"$nulls":7},{"$f":"Jan!H42","v":0},{"$f":"Jan!I42","v":0}]
["Väljaminek kokku:",null,null,{"$f":"D37+SUM(D39:D42)-D38","v":{"v":0,"d":"0.00 €"}},{"$nulls":3},"REISIJAD"]
[]
[null,"JÄÄK","raha",{"$f":"IF(D32>D43,D32-D43,0)","v":{"v":0,"d":"0.00 €"}}]
[null,null,"taara",{"v":0,"d":"0.00 €"}]
["KAPTEN","nimi"]
["Esitamise kuupäev",{"$f":"NOW()","v":"2022-03-07T13:34:29.930"}]
{"$rows_empty":18}
[{"$nulls":10},"Reisijatel kokku",null,{"$f":"SUM(J44:J67)","v":{"v":0,"d":"00"}}]
[{"$nulls":7},{"$f":"1","v":{"v":1,"d":"01"}}]
[{"$nulls":7},"xxx","Toidupäevade arv kokku",{"$f":"SUM(J11:J42,J43:J67)","v":{"v":0,"d":"00"}}]
[]
[{"$nulls":7},"Aruandeperiood",{"$f":"B4","v":"VEEBRUAR"},{"$f":"B3","v":2022}]
[{"$nulls":7},"KAPTEN",{"$f":"B47","v":"nimi"}]
[{"$nulls":7},"Esitamise kuupäev",{"$f":"NOW()","v":"2022-03-07T13:34:29.930"}]

{"sheet":"Mär","index":2,"n_rows":73,"n_cols":13,"rows_kept":73,"merged":[[0,0,0,3],[2,2,3,3],[4,0,4,3],[4,7,4,9],[5,7,8,7],[5,8,8,8],[5,9,8,9],[8,0,9,0],[8,2,9,2],[8,3,9,3],[9,7,9,9],[42,7,42,9],[46,1,46,2],[67,7,67,9],[71,8,71,9]]}
["LAEVAPERE TOITLUSTAMISE ARUANNE"]
["LAEVA NIMI",{"$f":"Jan!B2","v":"näide: Suur Tõll"}]
["Aasta",{"$f":"Jan!B3","v":2022},{"$f":"Jan!C3","v":0}]
["Kuu","MÄRTS"]
[{"$nulls":7},"TOIDUPÄEVADE TABEL"]
["Toiduraha jääk kuu alguseks:",null,null,{"$f":"Veb!D45","v":{"v":0,"d":"0.00 €"}},{"$nulls":3},"Nimi","Amet","kalendripäevad"]
["Taara jääk kuu alguseks:",null,null,{"$f":"0","v":{"v":0,"d":"0.00 €"}}]
["SISSETULEK"]
["Kuupäev","Saatedokumendi","Hankefirma","Summa","jääk"]
[null,"nr.",null,null,{"$f":"D43-D32","v":{"v":0,"d":"0.00 €"}},null,null,"LAEVAPERE"]
[{"$nulls":7},{"$f":"Jan!H11","v":0},{"$f":"Jan!I11","v":0}]
[{"$nulls":7},{"$f":"Jan!H12","v":0},{"$f":"Jan!I12","v":0}]
[{"$nulls":7},{"$f":"Jan!H13","v":0},{"$f":"Jan!I13","v":0}]
[{"$nulls":7},{"$f":"Jan!H14","v":0},{"$f":"Jan!I14","v":0}]
[{"$nulls":7},{"$f":"Jan!H15","v":0},{"$f":"Jan!I15","v":0}]
[{"$nulls":7},{"$f":"Jan!H16","v":0},{"$f":"Jan!I16","v":0}]
[{"$nulls":7},{"$f":"Jan!H17","v":0},{"$f":"Jan!I17","v":0}]
[{"$nulls":7},{"$f":"Jan!H18","v":0},{"$f":"Jan!I18","v":0}]
[{"$nulls":7},{"$f":"Jan!H19","v":0},{"$f":"Jan!I19","v":0}]
[{"$nulls":7},{"$f":"Jan!H20","v":0},{"$f":"Jan!I20","v":0}]
[{"$nulls":7},{"$f":"Jan!H21","v":0},{"$f":"Jan!I21","v":0}]
[{"$nulls":7},{"$f":"Jan!H22","v":0},{"$f":"Jan!I22","v":0}]
[{"$nulls":7},{"$f":"Jan!H23","v":0},{"$f":"Jan!I23","v":0}]
[{"$nulls":7},{"$f":"Jan!H24","v":0},{"$f":"Jan!I24","v":0}]
[{"$nulls":7},{"$f":"Jan!H25","v":0},{"$f":"Jan!I25","v":0}]
[{"$nulls":7},{"$f":"Jan!H26","v":0},{"$f":"Jan!I26","v":0}]
[{"$nulls":7},{"$f":"Jan!H27","v":0},{"$f":"Jan!I27","v":0}]
[{"$nulls":7},{"$f":"Jan!H28","v":0},{"$f":"Jan!I28","v":0}]
[{"$nulls":7},{"$f":"Jan!H29","v":0},{"$f":"Jan!I29","v":0}]
[{"$nulls":7},{"$f":"Jan!H30","v":0},{"$f":"Jan!I30","v":0}]
[{"$nulls":7},{"$f":"Jan!H31","v":0},{"$f":"Jan!I31","v":0}]
["Toiduaineid kokku :",null,null,{"$f":"SUM(D11:D31)","v":{"v":0,"d":"0.00 €"}},{"$nulls":3},{"$f":"Jan!H32","v":0},{"$f":"Jan!I32","v":0}]
["Taara kokku:",null,null,{"$f":"0","v":{"v":0,"d":"0.00 €"}},{"$nulls":3},{"$f":"Jan!H33","v":0},{"$f":"Jan!I33","v":0}]
["VÄLJAMINEK",{"$nulls":6},{"$f":"Jan!H34","v":0},{"$f":"Jan!I34","v":0}]
["Laevapere toitlustamine:",null,"päevade arv",{"$f":"SUM(J11:J42)","v":{"v":0,"d":"00"}},{"$nulls":3},{"$f":"Jan!H35","v":0},{"$f":"Jan!I35","v":0}]
[null,null,"päeva maksumus",{"v":0,"d":"0.00 €"},{"$nulls":3},{"$f":"Jan!H36","v":0},{"$f":"Jan!I36","v":0}]
[null,null,"normsumma",{"$f":"D35*D36","v":{"v":0,"d":"0.00 €"}},{"$nulls":3},{"$f":"Jan!H37","v":0},{"$f":"Jan!I37","v":0}]
[null,null,"jääk kuu alguseks",{"$f":"D6","v":{"v":0,"d":"0.00 €"}},{"$nulls":3},{"$f":"Jan!H38","v":0},{"$f":"Jan!I38","v":0}]
["Taara tagastus:",{"$nulls":6},{"$f":"Jan!H39","v":0},{"$f":"Jan!I39","v":0}]
["Muud väljaminekud:",null,"reisijate toitlustamine",{"$f":"IF(SUM(J43:J67)>0,SUM(J43:J67)*D36,\"\")","v":""},{"$nulls":3},{"$f":"Jan!H40","v":0},{"$f":"Jan!I40","v":0}]
[{"$nulls":7},{"$f":"Jan!H41","v":0},{"$f":"Jan!I41","v":0}]
[{"$nulls":7},{"$f":"Jan!H42","v":0},{"$f":"Jan!I42","v":0}]
["Väljaminek kokku:",null,null,{"$f":"D37+SUM(D39:D42)-D38","v":{"v":0,"d":"0.00 €"}},{"$nulls":3},"REISIJAD"]
[]
[null,"JÄÄK","raha",{"$f":"IF(D32>D43,D32-D43,0)","v":{"v":0,"d":"0.00 €"}}]
[null,null,"taara",{"v":0,"d":"0.00 €"}]
["KAPTEN","nimi"]
["Esitamise kuupäev",{"$f":"NOW()","v":"2022-03-07T13:34:29.930"}]
{"$rows_empty":18}
[{"$nulls":10},"Reisijatel kokku",null,{"$f":"SUM(J44:J67)","v":{"v":0,"d":"00"}}]
[{"$nulls":7},{"$f":"1","v":{"v":1,"d":"01"}}]
[{"$nulls":7},"xxx","Toidupäevade arv kokku",{"$f":"SUM(J11:J42,J43:J67)","v":{"v":0,"d":"00"}}]
[]
[{"$nulls":7},"Aruandeperiood",{"$f":"B4","v":"MÄRTS"},{"$f":"B3","v":2022}]
[{"$nulls":7},"KAPTEN",{"$f":"B47","v":"nimi"}]
[{"$nulls":7},"Esitamise kuupäev",{"$f":"NOW()","v":"2022-03-07T13:34:29.930"}]

{"sheet":"Apr","index":3,"n_rows":73,"n_cols":13,"rows_kept":73,"merged":[[0,0,0,3],[2,2,3,3],[4,0,4,3],[4,7,4,9],[5,7,8,7],[5,8,8,8],[5,9,8,9],[8,0,9,0],[8,2,9,2],[8,3,9,3],[9,7,9,9],[42,7,42,9],[46,1,46,2],[67,7,67,9],[71,8,71,9]]}
["LAEVAPERE TOITLUSTAMISE ARUANNE"]
["LAEVA NIMI",{"$f":"Jan!B2","v":"näide: Suur Tõll"}]
["Aasta",{"$f":"Jan!B3","v":2022},{"$f":"Jan!C3","v":0}]
["Kuu","APRILL"]
[{"$nulls":7},"TOIDUPÄEVADE TABEL"]
["Toiduraha jääk kuu alguseks:",null,null,{"$f":"Mär!D45","v":{"v":0,"d":"0.00 €"}},{"$nulls":3},"Nimi","Amet","kalendripäevad"]
["Taara jääk kuu alguseks:",null,null,{"$f":"0","v":{"v":0,"d":"0.00 €"}}]
["SISSETULEK"]
["Kuupäev","Saatedokumendi","Hankefirma","Summa","jääk"]
[null,"nr.",null,null,{"$f":"D43-D32","v":{"v":0,"d":"0.00 €"}},null,null,"LAEVAPERE"]
[{"$nulls":7},{"$f":"Jan!H11","v":0},{"$f":"Jan!I11","v":0}]
[{"$nulls":7},{"$f":"Jan!H12","v":0},{"$f":"Jan!I12","v":0}]
[{"$nulls":7},{"$f":"Jan!H13","v":0},{"$f":"Jan!I13","v":0}]
[{"$nulls":7},{"$f":"Jan!H14","v":0},{"$f":"Jan!I14","v":0}]
[{"$nulls":7},{"$f":"Jan!H15","v":0},{"$f":"Jan!I15","v":0}]
[{"$nulls":7},{"$f":"Jan!H16","v":0},{"$f":"Jan!I16","v":0}]
[{"$nulls":7},{"$f":"Jan!H17","v":0},{"$f":"Jan!I17","v":0}]
[{"$nulls":7},{"$f":"Jan!H18","v":0},{"$f":"Jan!I18","v":0}]
[{"$nulls":7},{"$f":"Jan!H19","v":0},{"$f":"Jan!I19","v":0}]
[{"$nulls":7},{"$f":"Jan!H20","v":0},{"$f":"Jan!I20","v":0}]
[{"$nulls":7},{"$f":"Jan!H21","v":0},{"$f":"Jan!I21","v":0}]
[{"$nulls":7},{"$f":"Jan!H22","v":0},{"$f":"Jan!I22","v":0}]
[{"$nulls":7},{"$f":"Jan!H23","v":0},{"$f":"Jan!I23","v":0}]
[{"$nulls":7},{"$f":"Jan!H24","v":0},{"$f":"Jan!I24","v":0}]
[{"$nulls":7},{"$f":"Jan!H25","v":0},{"$f":"Jan!I25","v":0}]
[{"$nulls":7},{"$f":"Jan!H26","v":0},{"$f":"Jan!I26","v":0}]
[{"$nulls":7},{"$f":"Jan!H27","v":0},{"$f":"Jan!I27","v":0}]
[{"$nulls":7},{"$f":"Jan!H28","v":0},{"$f":"Jan!I28","v":0}]
[{"$nulls":7},{"$f":"Jan!H29","v":0},{"$f":"Jan!I29","v":0}]
[{"$nulls":7},{"$f":"Jan!H30","v":0},{"$f":"Jan!I30","v":0}]
[{"$nulls":7},{"$f":"Jan!H31","v":0},{"$f":"Jan!I31","v":0}]
["Toiduaineid kokku :",null,null,{"$f":"SUM(D11:D31)","v":{"v":0,"d":"0.00 €"}},{"$nulls":3},{"$f":"Jan!H32","v":0},{"$f":"Jan!I32","v":0}]
["Taara kokku:",null,null,{"$f":"0","v":{"v":0,"d":"0.00 €"}},{"$nulls":3},{"$f":"Jan!H33","v":0},{"$f":"Jan!I33","v":0}]
["VÄLJAMINEK",{"$nulls":6},{"$f":"Jan!H34","v":0},{"$f":"Jan!I34","v":0}]
["Laevapere toitlustamine:",null,"päevade arv",{"$f":"SUM(J11:J42)","v":{"v":0,"d":"00"}},{"$nulls":3},{"$f":"Jan!H35","v":0},{"$f":"Jan!I35","v":0}]
[null,null,"päeva maksumus",{"v":0,"d":"0.00 €"},{"$nulls":3},{"$f":"Jan!H36","v":0},{"$f":"Jan!I36","v":0}]
[null,null,"normsumma",{"$f":"D35*D36","v":{"v":0,"d":"0.00 €"}},{"$nulls":3},{"$f":"Jan!H37","v":0},{"$f":"Jan!I37","v":0}]
[null,null,"jääk kuu alguseks",{"$f":"D6","v":{"v":0,"d":"0.00 €"}},{"$nulls":3},{"$f":"Jan!H38","v":0},{"$f":"Jan!I38","v":0}]
["Taara tagastus:",{"$nulls":6},{"$f":"Jan!H39","v":0},{"$f":"Jan!I39","v":0}]
["Muud väljaminekud:",null,"reisijate toitlustamine",{"$f":"IF(SUM(J43:J67)>0,SUM(J43:J67)*D36,\"\")","v":""},{"$nulls":3},{"$f":"Jan!H40","v":0},{"$f":"Jan!I40","v":0}]
[{"$nulls":7},{"$f":"Jan!H41","v":0},{"$f":"Jan!I41","v":0}]
[{"$nulls":7},{"$f":"Jan!H42","v":0},{"$f":"Jan!I42","v":0}]
["Väljaminek kokku:",null,null,{"$f":"D37+SUM(D39:D42)-D38","v":{"v":0,"d":"0.00 €"}},{"$nulls":3},"REISIJAD"]
[]
[null,"JÄÄK","raha",{"$f":"IF(D32>D43,D32-D43,0)","v":{"v":0,"d":"0.00 €"}}]
[null,null,"taara",{"v":0,"d":"0.00 €"}]
["KAPTEN","nimi"]
["Esitamise kuupäev",{"$f":"NOW()","v":"2022-03-07T13:34:29.930"}]
{"$rows_empty":18}
[{"$nulls":10},"Reisijatel kokku",null,{"$f":"SUM(J44:J67)","v":{"v":0,"d":"00"}}]
[{"$nulls":7},{"$f":"1","v":{"v":1,"d":"01"}}]
[{"$nulls":7},"xxx","Toidupäevade arv kokku",{"$f":"SUM(J11:J42,J43:J67)","v":{"v":0,"d":"00"}}]
[]
[{"$nulls":7},"Aruandeperiood",{"$f":"B4","v":"APRILL"},{"$f":"B3","v":2022}]
[{"$nulls":7},"KAPTEN",{"$f":"B47","v":"nimi"}]
[{"$nulls":7},"Esitamise kuupäev",{"$f":"NOW()","v":"2022-03-07T13:34:29.930"}]

{"sheet":"Mai","index":4,"n_rows":73,"n_cols":13,"rows_kept":73,"merged":[[0,0,0,3],[2,2,3,3],[4,0,4,3],[4,7,4,9],[5,7,8,7],[5,8,8,8],[5,9,8,9],[8,0,9,0],[8,2,9,2],[8,3,9,3],[9,7,9,9],[42,7,42,9],[46,1,46,2],[67,7,67,9],[71,8,71,9]]}
["LAEVAPERE TOITLUSTAMISE ARUANNE"]
["LAEVA NIMI",{"$f":"Jan!B2","v":"näide: Suur Tõll"}]
["Aasta",{"$f":"Jan!B3","v":2022},{"$f":"Jan!C3","v":0}]
["Kuu","MAI"]
[{"$nulls":7},"TOIDUPÄEVADE TABEL"]
["Toiduraha jääk kuu alguseks:",null,null,{"$f":"Apr!D45","v":{"v":0,"d":"0.00 €"}},{"$nulls":3},"Nimi","Amet","kalendripäevad"]
["Taara jääk kuu alguseks:",null,null,{"$f":"0","v":{"v":0,"d":"0.00 €"}}]
["SISSETULEK"]
["Kuupäev","Saatedokumendi","Hankefirma","Summa","jääk"]
[null,"nr.",null,null,{"$f":"D43-D32","v":{"v":0,"d":"0.00 €"}},null,null,"LAEVAPERE"]
[{"$nulls":7},{"$f":"Jan!H11","v":0},{"$f":"Jan!I11","v":0}]
[{"$nulls":7},{"$f":"Jan!H12","v":0},{"$f":"Jan!I12","v":0}]
[{"$nulls":7},{"$f":"Jan!H13","v":0},{"$f":"Jan!I13","v":0}]
[{"$nulls":7},{"$f":"Jan!H14","v":0},{"$f":"Jan!I14","v":0}]
[{"$nulls":7},{"$f":"Jan!H15","v":0},{"$f":"Jan!I15","v":0}]
[{"$nulls":7},{"$f":"Jan!H16","v":0},{"$f":"Jan!I16","v":0}]
[{"$nulls":7},{"$f":"Jan!H17","v":0},{"$f":"Jan!I17","v":0}]
[{"$nulls":7},{"$f":"Jan!H18","v":0},{"$f":"Jan!I18","v":0}]
[{"$nulls":7},{"$f":"Jan!H19","v":0},{"$f":"Jan!I19","v":0}]
[{"$nulls":7},{"$f":"Jan!H20","v":0},{"$f":"Jan!I20","v":0}]
[{"$nulls":7},{"$f":"Jan!H21","v":0},{"$f":"Jan!I21","v":0}]
[{"$nulls":7},{"$f":"Jan!H22","v":0},{"$f":"Jan!I22","v":0}]
[{"$nulls":7},{"$f":"Jan!H23","v":0},{"$f":"Jan!I23","v":0}]
[{"$nulls":7},{"$f":"Jan!H24","v":0},{"$f":"Jan!I24","v":0}]
[{"$nulls":7},{"$f":"Jan!H25","v":0},{"$f":"Jan!I25","v":0}]
[{"$nulls":7},{"$f":"Jan!H26","v":0},{"$f":"Jan!I26","v":0}]
[{"$nulls":7},{"$f":"Jan!H27","v":0},{"$f":"Jan!I27","v":0}]
[{"$nulls":7},{"$f":"Jan!H28","v":0},{"$f":"Jan!I28","v":0}]
[{"$nulls":7},{"$f":"Jan!H29","v":0},{"$f":"Jan!I29","v":0}]
[{"$nulls":7},{"$f":"Jan!H30","v":0},{"$f":"Jan!I30","v":0}]
[{"$nulls":7},{"$f":"Jan!H31","v":0},{"$f":"Jan!I31","v":0}]
["Toiduaineid kokku :",null,null,{"$f":"SUM(D11:D31)","v":{"v":0,"d":"0.00 €"}},{"$nulls":3},{"$f":"Jan!H32","v":0},{"$f":"Jan!I32","v":0}]
["Taara kokku:",null,null,{"$f":"0","v":{"v":0,"d":"0.00 €"}},{"$nulls":3},{"$f":"Jan!H33","v":0},{"$f":"Jan!I33","v":0}]
["VÄLJAMINEK",{"$nulls":6},{"$f":"Jan!H34","v":0},{"$f":"Jan!I34","v":0}]
["Laevapere toitlustamine:",null,"päevade arv",{"$f":"SUM(J11:J42)","v":{"v":0,"d":"00"}},{"$nulls":3},{"$f":"Jan!H35","v":0},{"$f":"Jan!I35","v":0}]
[null,null,"päeva maksumus",{"v":0,"d":"0.00 €"},{"$nulls":3},{"$f":"Jan!H36","v":0},{"$f":"Jan!I36","v":0}]
[null,null,"normsumma",{"$f":"D35*D36","v":{"v":0,"d":"0.00 €"}},{"$nulls":3},{"$f":"Jan!H37","v":0},{"$f":"Jan!I37","v":0}]
[null,null,"jääk kuu alguseks",{"$f":"D6","v":{"v":0,"d":"0.00 €"}},{"$nulls":3},{"$f":"Jan!H38","v":0},{"$f":"Jan!I38","v":0}]
["Taara tagastus:",{"$nulls":6},{"$f":"Jan!H39","v":0},{"$f":"Jan!I39","v":0}]
["Muud väljaminekud:",null,"reisijate toitlustamine",{"$f":"IF(SUM(J43:J67)>0,SUM(J43:J67)*D36,\"\")","v":""},{"$nulls":3},{"$f":"Jan!H40","v":0},{"$f":"Jan!I40","v":0}]
[{"$nulls":7},{"$f":"Jan!H41","v":0},{"$f":"Jan!I41","v":0}]
[{"$nulls":7},{"$f":"Jan!H42","v":0},{"$f":"Jan!I42","v":0}]
["Väljaminek kokku:",null,null,{"$f":"D37+SUM(D39:D42)-D38","v":{"v":0,"d":"0.00 €"}},{"$nulls":3},"REISIJAD"]
[]
[null,"JÄÄK","raha",{"$f":"IF(D32>D43,D32-D43,0)","v":{"v":0,"d":"0.00 €"}}]
[null,null,"taara",{"v":0,"d":"0.00 €"}]
["KAPTEN","nimi"]
["Esitamise kuupäev",{"$f":"NOW()","v":"2022-03-07T13:34:29.930"}]
{"$rows_empty":18}
[{"$nulls":10},"Reisijatel kokku",null,{"$f":"SUM(J44:J67)","v":{"v":0,"d":"00"}}]
[{"$nulls":7},{"$f":"1","v":{"v":1,"d":"01"}}]
[{"$nulls":7},"xxx","Toidupäevade arv kokku",{"$f":"SUM(J11:J42,J43:J67)","v":{"v":0,"d":"00"}}]
[]
[{"$nulls":7},"Aruandeperiood",{"$f":"B4","v":"MAI"},{"$f":"B3","v":2022}]
[{"$nulls":7},"KAPTEN",{"$f":"B47","v":"nimi"}]
[{"$nulls":7},"Esitamise kuupäev",{"$f":"NOW()","v":"2022-03-07T13:34:29.930"}]

{"sheet":"Jun","index":5,"n_rows":73,"n_cols":13,"rows_kept":73,"merged":[[0,0,0,3],[2,2,3,3],[4,0,4,3],[4,7,4,9],[5,7,8,7],[5,8,8,8],[5,9,8,9],[8,0,9,0],[8,2,9,2],[8,3,9,3],[9,7,9,9],[42,7,42,9],[46,1,46,2],[67,7,67,9],[71,8,71,9]]}
["LAEVAPERE TOITLUSTAMISE ARUANNE"]
["LAEVA NIMI",{"$f":"Jan!B2","v":"näide: Suur Tõll"}]
["Aasta",{"$f":"Jan!B3","v":2022},{"$f":"Jan!C3","v":0}]
["Kuu","JUUNI"]
[{"$nulls":7},"TOIDUPÄEVADE TABEL"]
["Toiduraha jääk kuu alguseks:",null,null,{"$f":"Mai!D45","v":{"v":0,"d":"0.00 €"}},{"$nulls":3},"Nimi","Amet","kalendripäevad"]
["Taara jääk kuu alguseks:",null,null,{"$f":"0","v":{"v":0,"d":"0.00 €"}}]
["SISSETULEK"]
["Kuupäev","Saatedokumendi","Hankefirma","Summa","jääk"]
[null,"nr.",null,null,{"$f":"D43-D32","v":{"v":0,"d":"0.00 €"}},null,null,"LAEVAPERE"]
[{"$nulls":7},{"$f":"Jan!H11","v":0},{"$f":"Jan!I11","v":0}]
[{"$nulls":7},{"$f":"Jan!H12","v":0},{"$f":"Jan!I12","v":0}]
[{"$nulls":7},{"$f":"Jan!H13","v":0},{"$f":"Jan!I13","v":0}]
[{"$nulls":7},{"$f":"Jan!H14","v":0},{"$f":"Jan!I14","v":0}]
[{"$nulls":7},{"$f":"Jan!H15","v":0},{"$f":"Jan!I15","v":0}]
[{"$nulls":7},{"$f":"Jan!H16","v":0},{"$f":"Jan!I16","v":0}]
[{"$nulls":7},{"$f":"Jan!H17","v":0},{"$f":"Jan!I17","v":0}]
[{"$nulls":7},{"$f":"Jan!H18","v":0},{"$f":"Jan!I18","v":0}]
[{"$nulls":7},{"$f":"Jan!H19","v":0},{"$f":"Jan!I19","v":0}]
[{"$nulls":7},{"$f":"Jan!H20","v":0},{"$f":"Jan!I20","v":0}]
[{"$nulls":7},{"$f":"Jan!H21","v":0},{"$f":"Jan!I21","v":0}]
[{"$nulls":7},{"$f":"Jan!H22","v":0},{"$f":"Jan!I22","v":0}]
[{"$nulls":7},{"$f":"Jan!H23","v":0},{"$f":"Jan!I23","v":0}]
[{"$nulls":7},{"$f":"Jan!H24","v":0},{"$f":"Jan!I24","v":0}]
[{"$nulls":7},{"$f":"Jan!H25","v":0},{"$f":"Jan!I25","v":0}]
[{"$nulls":7},{"$f":"Jan!H26","v":0},{"$f":"Jan!I26","v":0}]
[{"$nulls":7},{"$f":"Jan!H27","v":0},{"$f":"Jan!I27","v":0}]
[{"$nulls":7},{"$f":"Jan!H28","v":0},{"$f":"Jan!I28","v":0}]
[{"$nulls":7},{"$f":"Jan!H29","v":0},{"$f":"Jan!I29","v":0}]
[{"$nulls":7},{"$f":"Jan!H30","v":0},{"$f":"Jan!I30","v":0}]
[{"$nulls":7},{"$f":"Jan!H31","v":0},{"$f":"Jan!I31","v":0}]
["Toiduaineid kokku :",null,null,{"$f":"SUM(D11:D31)","v":{"v":0,"d":"0.00 €"}},{"$nulls":3},{"$f":"Jan!H32","v":0},{"$f":"Jan!I32","v":0}]
["Taara kokku:",null,null,{"$f":"0","v":{"v":0,"d":"0.00 €"}},{"$nulls":3},{"$f":"Jan!H33","v":0},{"$f":"Jan!I33","v":0}]
["VÄLJAMINEK",{"$nulls":6},{"$f":"Jan!H34","v":0},{"$f":"Jan!I34","v":0}]
["Laevapere toitlustamine:",null,"päevade arv",{"$f":"SUM(J11:J42)","v":{"v":0,"d":"00"}},{"$nulls":3},{"$f":"Jan!H35","v":0},{"$f":"Jan!I35","v":0}]
[null,null,"päeva maksumus",{"v":0,"d":"0.00 €"},{"$nulls":3},{"$f":"Jan!H36","v":0},{"$f":"Jan!I36","v":0}]
[null,null,"normsumma",{"$f":"D35*D36","v":{"v":0,"d":"0.00 €"}},{"$nulls":3},{"$f":"Jan!H37","v":0},{"$f":"Jan!I37","v":0}]
[null,null,"jääk kuu alguseks",{"$f":"D6","v":{"v":0,"d":"0.00 €"}},{"$nulls":3},{"$f":"Jan!H38","v":0},{"$f":"Jan!I38","v":0}]
["Taara tagastus:",{"$nulls":6},{"$f":"Jan!H39","v":0},{"$f":"Jan!I39","v":0}]
["Muud väljaminekud:",null,"reisijate toitlustamine",{"$f":"IF(SUM(J43:J67)>0,SUM(J43:J67)*D36,\"\")","v":""},{"$nulls":3},{"$f":"Jan!H40","v":0},{"$f":"Jan!I40","v":0}]
[{"$nulls":7},{"$f":"Jan!H41","v":0},{"$f":"Jan!I41","v":0}]
[{"$nulls":7},{"$f":"Jan!H42","v":0},{"$f":"Jan!I42","v":0}]
["Väljaminek kokku:",null,null,{"$f":"D37+SUM(D39:D42)-D38","v":{"v":0,"d":"0.00 €"}},{"$nulls":3},"REISIJAD"]
[]
[null,"JÄÄK","raha",{"$f":"IF(D32>D43,D32-D43,0)","v":{"v":0,"d":"0.00 €"}}]
[null,null,"taara",{"v":0,"d":"0.00 €"}]
["KAPTEN","nimi"]
["Esitamise kuupäev",{"$f":"NOW()","v":"2022-03-07T13:34:29.930"}]
{"$rows_empty":18}
[{"$nulls":10},"Reisijatel kokku",null,{"$f":"SUM(J44:J67)","v":{"v":0,"d":"00"}}]
[{"$nulls":7},{"$f":"1","v":{"v":1,"d":"01"}}]
[{"$nulls":7},"xxx","Toidupäevade arv kokku",{"$f":"SUM(J11:J42,J43:J67)","v":{"v":0,"d":"00"}}]
[]
[{"$nulls":7},"Aruandeperiood",{"$f":"B4","v":"JUUNI"},{"$f":"B3","v":2022}]
[{"$nulls":7},"KAPTEN",{"$f":"B47","v":"nimi"}]
[{"$nulls":7},"Esitamise kuupäev",{"$f":"NOW()","v":"2022-03-07T13:34:29.930"}]

{"sheet":"Jul","index":6,"n_rows":73,"n_cols":13,"rows_kept":73,"merged":[[0,0,0,3],[2,2,3,3],[4,0,4,3],[4,7,4,9],[5,7,8,7],[5,8,8,8],[5,9,8,9],[8,0,9,0],[8,2,9,2],[8,3,9,3],[9,7,9,9],[42,7,42,9],[46,1,46,2],[67,7,67,9],[71,8,71,9]]}
["LAEVAPERE TOITLUSTAMISE ARUANNE"]
["LAEVA NIMI",{"$f":"Jan!B2","v":"näide: Suur Tõll"}]
["Aasta",{"$f":"Jan!B3","v":2022},{"$f":"Jan!C3","v":0}]
["Kuu","JUULI"]
[{"$nulls":7},"TOIDUPÄEVADE TABEL"]
["Toiduraha jääk kuu alguseks:",null,null,{"$f":"Jun!D45","v":{"v":0,"d":"0.00 €"}},{"$nulls":3},"Nimi","Amet","kalendripäevad"]
["Taara jääk kuu alguseks:",null,null,{"$f":"0","v":{"v":0,"d":"0.00 €"}}]
["SISSETULEK"]
["Kuupäev","Saatedokumendi","Hankefirma","Summa","jääk"]
[null,"nr.",null,null,{"$f":"D43-D32","v":{"v":0,"d":"0.00 €"}},null,null,"LAEVAPERE"]
[{"$nulls":7},{"$f":"Jan!H11","v":0},{"$f":"Jan!I11","v":0}]
[{"$nulls":7},{"$f":"Jan!H12","v":0},{"$f":"Jan!I12","v":0}]
[{"$nulls":7},{"$f":"Jan!H13","v":0},{"$f":"Jan!I13","v":0}]
[{"$nulls":7},{"$f":"Jan!H14","v":0},{"$f":"Jan!I14","v":0}]
[{"$nulls":7},{"$f":"Jan!H15","v":0},{"$f":"Jan!I15","v":0}]
[{"$nulls":7},{"$f":"Jan!H16","v":0},{"$f":"Jan!I16","v":0}]
[{"$nulls":7},{"$f":"Jan!H17","v":0},{"$f":"Jan!I17","v":0}]
[{"$nulls":7},{"$f":"Jan!H18","v":0},{"$f":"Jan!I18","v":0}]
[{"$nulls":7},{"$f":"Jan!H19","v":0},{"$f":"Jan!I19","v":0}]
[{"$nulls":7},{"$f":"Jan!H20","v":0},{"$f":"Jan!I20","v":0}]
[{"$nulls":7},{"$f":"Jan!H21","v":0},{"$f":"Jan!I21","v":0}]
[{"$nulls":7},{"$f":"Jan!H22","v":0},{"$f":"Jan!I22","v":0}]
[{"$nulls":7},{"$f":"Jan!H23","v":0},{"$f":"Jan!I23","v":0}]
[{"$nulls":7},{"$f":"Jan!H24","v":0},{"$f":"Jan!I24","v":0}]
[{"$nulls":7},{"$f":"Jan!H25","v":0},{"$f":"Jan!I25","v":0}]
[{"$nulls":7},{"$f":"Jan!H26","v":0},{"$f":"Jan!I26","v":0}]
[{"$nulls":7},{"$f":"Jan!H27","v":0},{"$f":"Jan!I27","v":0}]
[{"$nulls":7},{"$f":"Jan!H28","v":0},{"$f":"Jan!I28","v":0}]
[{"$nulls":7},{"$f":"Jan!H29","v":0},{"$f":"Jan!I29","v":0}]
[{"$nulls":7},{"$f":"Jan!H30","v":0},{"$f":"Jan!I30","v":0}]
[{"$nulls":7},{"$f":"Jan!H31","v":0},{"$f":"Jan!I31","v":0}]
["Toiduaineid kokku :",null,null,{"$f":"SUM(D11:D31)","v":{"v":0,"d":"0.00 €"}},{"$nulls":3},{"$f":"Jan!H32","v":0},{"$f":"Jan!I32","v":0}]
["Taara kokku:",null,null,{"$f":"0","v":{"v":0,"d":"0.00 €"}},{"$nulls":3},{"$f":"Jan!H33","v":0},{"$f":"Jan!I33","v":0}]
["VÄLJAMINEK",{"$nulls":6},{"$f":"Jan!H34","v":0},{"$f":"Jan!I34","v":0}]
["Laevapere toitlustamine:",null,"päevade arv",{"$f":"SUM(J11:J42)","v":{"v":0,"d":"00"}},{"$nulls":3},{"$f":"Jan!H35","v":0},{"$f":"Jan!I35","v":0}]
[null,null,"päeva maksumus",{"v":0,"d":"0.00 €"},{"$nulls":3},{"$f":"Jan!H36","v":0},{"$f":"Jan!I36","v":0}]
[null,null,"normsumma",{"$f":"D35*D36","v":{"v":0,"d":"0.00 €"}},{"$nulls":3},{"$f":"Jan!H37","v":0},{"$f":"Jan!I37","v":0}]
[null,null,"jääk kuu alguseks",{"$f":"D6","v":{"v":0,"d":"0.00 €"}},{"$nulls":3},{"$f":"Jan!H38","v":0},{"$f":"Jan!I38","v":0}]
["Taara tagastus:",{"$nulls":6},{"$f":"Jan!H39","v":0},{"$f":"Jan!I39","v":0}]
["Muud väljaminekud:",null,"reisijate toitlustamine",{"$f":"IF(SUM(J43:J67)>0,SUM(J43:J67)*D36,\"\")","v":""},{"$nulls":3},{"$f":"Jan!H40","v":0},{"$f":"Jan!I40","v":0}]
[{"$nulls":7},{"$f":"Jan!H41","v":0},{"$f":"Jan!I41","v":0}]
[{"$nulls":7},{"$f":"Jan!H42","v":0},{"$f":"Jan!I42","v":0}]
["Väljaminek kokku:",null,null,{"$f":"D37+SUM(D39:D42)-D38","v":{"v":0,"d":"0.00 €"}},{"$nulls":3},"REISIJAD"]
[]
[null,"JÄÄK","raha",{"$f":"IF(D32>D43,D32-D43,0)","v":{"v":0,"d":"0.00 €"}}]
[null,null,"taara",{"v":0,"d":"0.00 €"}]
["KAPTEN","nimi"]
["Esitamise kuupäev",{"$f":"NOW()","v":"2022-03-07T13:34:29.930"}]
{"$rows_empty":18}
[{"$nulls":10},"Reisijatel kokku",null,{"$f":"SUM(J44:J67)","v":{"v":0,"d":"00"}}]
[{"$nulls":7},{"$f":"1","v":{"v":1,"d":"01"}}]
[{"$nulls":7},"xxx","Toidupäevade arv kokku",{"$f":"SUM(J11:J42,J43:J67)","v":{"v":0,"d":"00"}}]
[]
[{"$nulls":7},"Aruandeperiood",{"$f":"B4","v":"JUULI"},{"$f":"B3","v":2022}]
[{"$nulls":7},"KAPTEN",{"$f":"B47","v":"nimi"}]
[{"$nulls":7},"Esitamise kuupäev",{"$f":"NOW()","v":"2022-03-07T13:34:29.930"}]

{"sheet":"Aug","index":7,"n_rows":73,"n_cols":13,"rows_kept":73,"merged":[[0,0,0,3],[2,2,3,3],[4,0,4,3],[4,7,4,9],[5,7,8,7],[5,8,8,8],[5,9,8,9],[8,0,9,0],[8,2,9,2],[8,3,9,3],[9,7,9,9],[42,7,42,9],[46,1,46,2],[67,7,67,9],[71,8,71,9]]}
["LAEVAPERE TOITLUSTAMISE ARUANNE"]
["LAEVA NIMI",{"$f":"Jan!B2","v":"näide: Suur Tõll"}]
["Aasta",{"$f":"Jan!B3","v":2022},{"$f":"Jan!C3","v":0}]
["Kuu","AUGUST"]
[{"$nulls":7},"TOIDUPÄEVADE TABEL"]
["Toiduraha jääk kuu alguseks:",null,null,{"$f":"Jul!D45","v":{"v":0,"d":"0.00 €"}},{"$nulls":3},"Nimi","Amet","kalendripäevad"]
["Taara jääk kuu alguseks:",null,null,{"$f":"0","v":{"v":0,"d":"0.00 €"}}]
["SISSETULEK"]
["Kuupäev","Saatedokumendi","Hankefirma","Summa","jääk"]
[null,"nr.",null,null,{"$f":"D43-D32","v":{"v":0,"d":"0.00 €"}},null,null,"LAEVAPERE"]
[{"$nulls":7},{"$f":"Jan!H11","v":0},{"$f":"Jan!I11","v":0}]
[{"$nulls":7},{"$f":"Jan!H12","v":0},{"$f":"Jan!I12","v":0}]
[{"$nulls":7},{"$f":"Jan!H13","v":0},{"$f":"Jan!I13","v":0}]
[{"$nulls":7},{"$f":"Jan!H14","v":0},{"$f":"Jan!I14","v":0}]
[{"$nulls":7},{"$f":"Jan!H15","v":0},{"$f":"Jan!I15","v":0}]
[{"$nulls":7},{"$f":"Jan!H16","v":0},{"$f":"Jan!I16","v":0}]
[{"$nulls":7},{"$f":"Jan!H17","v":0},{"$f":"Jan!I17","v":0}]
[{"$nulls":7},{"$f":"Jan!H18","v":0},{"$f":"Jan!I18","v":0}]
[{"$nulls":7},{"$f":"Jan!H19","v":0},{"$f":"Jan!I19","v":0}]
[{"$nulls":7},{"$f":"Jan!H20","v":0},{"$f":"Jan!I20","v":0}]
[{"$nulls":7},{"$f":"Jan!H21","v":0},{"$f":"Jan!I21","v":0}]
[{"$nulls":7},{"$f":"Jan!H22","v":0},{"$f":"Jan!I22","v":0}]
[{"$nulls":7},{"$f":"Jan!H23","v":0},{"$f":"Jan!I23","v":0}]
[{"$nulls":7},{"$f":"Jan!H24","v":0},{"$f":"Jan!I24","v":0}]
[{"$nulls":7},{"$f":"Jan!H25","v":0},{"$f":"Jan!I25","v":0}]
[{"$nulls":7},{"$f":"Jan!H26","v":0},{"$f":"Jan!I26","v":0}]
[{"$nulls":7},{"$f":"Jan!H27","v":0},{"$f":"Jan!I27","v":0}]
[{"$nulls":7},{"$f":"Jan!H28","v":0},{"$f":"Jan!I28","v":0}]
[{"$nulls":7},{"$f":"Jan!H29","v":0},{"$f":"Jan!I29","v":0}]
[{"$nulls":7},{"$f":"Jan!H30","v":0},{"$f":"Jan!I30","v":0}]
[{"$nulls":7},{"$f":"Jan!H31","v":0},{"$f":"Jan!I31","v":0}]
["Toiduaineid kokku :",null,null,{"$f":"SUM(D11:D31)","v":{"v":0,"d":"0.00 €"}},{"$nulls":3},{"$f":"Jan!H32","v":0},{"$f":"Jan!I32","v":0}]
["Taara kokku:",null,null,{"$f":"0","v":{"v":0,"d":"0.00 €"}},{"$nulls":3},{"$f":"Jan!H33","v":0},{"$f":"Jan!I33","v":0}]
["VÄLJAMINEK",{"$nulls":6},{"$f":"Jan!H34","v":0},{"$f":"Jan!I34","v":0}]
["Laevapere toitlustamine:",null,"päevade arv",{"$f":"SUM(J11:J42)","v":{"v":0,"d":"00"}},{"$nulls":3},{"$f":"Jan!H35","v":0},{"$f":"Jan!I35","v":0}]
[null,null,"päeva maksumus",{"v":0,"d":"0.00 €"},{"$nulls":3},{"$f":"Jan!H36","v":0},{"$f":"Jan!I36","v":0}]
[null,null,"normsumma",{"$f":"D35*D36","v":{"v":0,"d":"0.00 €"}},{"$nulls":3},{"$f":"Jan!H37","v":0},{"$f":"Jan!I37","v":0}]
[null,null,"jääk kuu alguseks",{"$f":"D6","v":{"v":0,"d":"0.00 €"}},{"$nulls":3},{"$f":"Jan!H38","v":0},{"$f":"Jan!I38","v":0}]
["Taara tagastus:",{"$nulls":6},{"$f":"Jan!H39","v":0},{"$f":"Jan!I39","v":0}]
["Muud väljaminekud:",null,"reisijate toitlustamine",{"$f":"IF(SUM(J43:J67)>0,SUM(J43:J67)*D36,\"\")","v":""},{"$nulls":3},{"$f":"Jan!H40","v":0},{"$f":"Jan!I40","v":0}]
[{"$nulls":7},{"$f":"Jan!H41","v":0},{"$f":"Jan!I41","v":0}]
[{"$nulls":7},{"$f":"Jan!H42","v":0},{"$f":"Jan!I42","v":0}]
["Väljaminek kokku:",null,null,{"$f":"D37+SUM(D39:D42)-D38","v":{"v":0,"d":"0.00 €"}},{"$nulls":3},"REISIJAD"]
[]
[null,"JÄÄK","raha",{"$f":"IF(D32>D43,D32-D43,0)","v":{"v":0,"d":"0.00 €"}}]
[null,null,"taara",{"v":0,"d":"0.00 €"}]
["KAPTEN","nimi"]
["Esitamise kuupäev",{"$f":"NOW()","v":"2022-03-07T13:34:29.930"}]
{"$rows_empty":18}
[{"$nulls":10},"Reisijatel kokku",null,{"$f":"SUM(J44:J67)","v":{"v":0,"d":"00"}}]
[{"$nulls":7},{"$f":"1","v":{"v":1,"d":"01"}}]
[{"$nulls":7},"xxx","Toidupäevade arv kokku",{"$f":"SUM(J11:J42,J43:J67)","v":{"v":0,"d":"00"}}]
[]
[{"$nulls":7},"Aruandeperiood",{"$f":"B4","v":"AUGUST"},{"$f":"B3","v":2022}]
[{"$nulls":7},"KAPTEN",{"$f":"B47","v":"nimi"}]
[{"$nulls":7},"Esitamise kuupäev",{"$f":"NOW()","v":"2022-03-07T13:34:29.930"}]

{"sheet":"Sep","index":8,"n_rows":73,"n_cols":13,"rows_kept":73,"merged":[[0,0,0,3],[2,2,3,3],[4,0,4,3],[4,7,4,9],[5,7,8,7],[5,8,8,8],[5,9,8,9],[8,0,9,0],[8,2,9,2],[8,3,9,3],[9,7,9,9],[42,7,42,9],[46,1,46,2],[67,7,67,9],[71,8,71,9]]}
["LAEVAPERE TOITLUSTAMISE ARUANNE"]
["LAEVA NIMI",{"$f":"Jan!B2","v":"näide: Suur Tõll"}]
["Aasta",{"$f":"Jan!B3","v":2022},{"$f":"Jan!C3","v":0}]
["Kuu","SEPTEMBER"]
[{"$nulls":7},"TOIDUPÄEVADE TABEL"]
["Toiduraha jääk kuu alguseks:",null,null,{"$f":"Aug!D45","v":{"v":0,"d":"0.00 €"}},{"$nulls":3},"Nimi","Amet","kalendripäevad"]
["Taara jääk kuu alguseks:",null,null,{"$f":"0","v":{"v":0,"d":"0.00 €"}}]
["SISSETULEK"]
["Kuupäev","Saatedokumendi","Hankefirma","Summa","jääk"]
[null,"nr.",null,null,{"$f":"D43-D32","v":{"v":0,"d":"0.00 €"}},null,null,"LAEVAPERE"]
[{"$nulls":7},{"$f":"Jan!H11","v":0},{"$f":"Jan!I11","v":0}]
[{"$nulls":7},{"$f":"Jan!H12","v":0},{"$f":"Jan!I12","v":0}]
[{"$nulls":7},{"$f":"Jan!H13","v":0},{"$f":"Jan!I13","v":0}]
[{"$nulls":7},{"$f":"Jan!H14","v":0},{"$f":"Jan!I14","v":0}]
[{"$nulls":7},{"$f":"Jan!H15","v":0},{"$f":"Jan!I15","v":0}]
[{"$nulls":7},{"$f":"Jan!H16","v":0},{"$f":"Jan!I16","v":0}]
[{"$nulls":7},{"$f":"Jan!H17","v":0},{"$f":"Jan!I17","v":0}]
[{"$nulls":7},{"$f":"Jan!H18","v":0},{"$f":"Jan!I18","v":0}]
[{"$nulls":7},{"$f":"Jan!H19","v":0},{"$f":"Jan!I19","v":0}]
[{"$nulls":7},{"$f":"Jan!H20","v":0},{"$f":"Jan!I20","v":0}]
[{"$nulls":7},{"$f":"Jan!H21","v":0},{"$f":"Jan!I21","v":0}]
[{"$nulls":7},{"$f":"Jan!H22","v":0},{"$f":"Jan!I22","v":0}]
[{"$nulls":7},{"$f":"Jan!H23","v":0},{"$f":"Jan!I23","v":0}]
[{"$nulls":7},{"$f":"Jan!H24","v":0},{"$f":"Jan!I24","v":0}]
[{"$nulls":7},{"$f":"Jan!H25","v":0},{"$f":"Jan!I25","v":0}]
[{"$nulls":7},{"$f":"Jan!H26","v":0},{"$f":"Jan!I26","v":0}]
[{"$nulls":7},{"$f":"Jan!H27","v":0},{"$f":"Jan!I27","v":0}]
[{"$nulls":7},{"$f":"Jan!H28","v":0},{"$f":"Jan!I28","v":0}]
[{"$nulls":7},{"$f":"Jan!H29","v":0},{"$f":"Jan!I29","v":0}]
[{"$nulls":7},{"$f":"Jan!H30","v":0},{"$f":"Jan!I30","v":0}]
[{"$nulls":7},{"$f":"Jan!H31","v":0},{"$f":"Jan!I31","v":0}]
["Toiduaineid kokku :",null,null,{"$f":"SUM(D11:D31)","v":{"v":0,"d":"0.00 €"}},{"$nulls":3},{"$f":"Jan!H32","v":0},{"$f":"Jan!I32","v":0}]
["Taara kokku:",null,null,{"$f":"0","v":{"v":0,"d":"0.00 €"}},{"$nulls":3},{"$f":"Jan!H33","v":0},{"$f":"Jan!I33","v":0}]
["VÄLJAMINEK",{"$nulls":6},{"$f":"Jan!H34","v":0},{"$f":"Jan!I34","v":0}]
["Laevapere toitlustamine:",null,"päevade arv",{"$f":"SUM(J11:J42)","v":{"v":0,"d":"00"}},{"$nulls":3},{"$f":"Jan!H35","v":0},{"$f":"Jan!I35","v":0}]
[null,null,"päeva maksumus",{"v":0,"d":"0.00 €"},{"$nulls":3},{"$f":"Jan!H36","v":0},{"$f":"Jan!I36","v":0}]
[null,null,"normsumma",{"$f":"D35*D36","v":{"v":0,"d":"0.00 €"}},{"$nulls":3},{"$f":"Jan!H37","v":0},{"$f":"Jan!I37","v":0}]
[null,null,"jääk kuu alguseks",{"$f":"D6","v":{"v":0,"d":"0.00 €"}},{"$nulls":3},{"$f":"Jan!H38","v":0},{"$f":"Jan!I38","v":0}]
["Taara tagastus:",{"$nulls":6},{"$f":"Jan!H39","v":0},{"$f":"Jan!I39","v":0}]
["Muud väljaminekud:",null,"reisijate toitlustamine",{"$f":"IF(SUM(J43:J67)>0,SUM(J43:J67)*D36,\"\")","v":""},{"$nulls":3},{"$f":"Jan!H40","v":0},{"$f":"Jan!I40","v":0}]
[{"$nulls":7},{"$f":"Jan!H41","v":0},{"$f":"Jan!I41","v":0}]
[{"$nulls":7},{"$f":"Jan!H42","v":0},{"$f":"Jan!I42","v":0}]
["Väljaminek kokku:",null,null,{"$f":"D37+SUM(D39:D42)-D38","v":{"v":0,"d":"0.00 €"}},{"$nulls":3},"REISIJAD"]
[]
[null,"JÄÄK","raha",{"$f":"IF(D32>D43,D32-D43,0)","v":{"v":0,"d":"0.00 €"}}]
[null,null,"taara",{"v":0,"d":"0.00 €"}]
["KAPTEN","nimi"]
["Esitamise kuupäev",{"$f":"NOW()","v":"2022-03-07T13:34:29.930"}]
{"$rows_empty":18}
[{"$nulls":10},"Reisijatel kokku",null,{"$f":"SUM(J44:J67)","v":{"v":0,"d":"00"}}]
[{"$nulls":7},{"$f":"1","v":{"v":1,"d":"01"}}]
[{"$nulls":7},"xxx","Toidupäevade arv kokku",{"$f":"SUM(J11:J42,J43:J67)","v":{"v":0,"d":"00"}}]
[]
[{"$nulls":7},"Aruandeperiood",{"$f":"B4","v":"SEPTEMBER"},{"$f":"B3","v":2022}]
[{"$nulls":7},"KAPTEN",{"$f":"B47","v":"nimi"}]
[{"$nulls":7},"Esitamise kuupäev",{"$f":"NOW()","v":"2022-03-07T13:34:29.930"}]

{"sheet":"Okt","index":9,"n_rows":73,"n_cols":13,"rows_kept":73,"merged":[[0,0,0,3],[2,2,3,3],[4,0,4,3],[4,7,4,9],[5,7,8,7],[5,8,8,8],[5,9,8,9],[8,0,9,0],[8,2,9,2],[8,3,9,3],[9,7,9,9],[42,7,42,9],[46,1,46,2],[67,7,67,9],[71,8,71,9]]}
["LAEVAPERE TOITLUSTAMISE ARUANNE"]
["LAEVA NIMI",{"$f":"Jan!B2","v":"näide: Suur Tõll"}]
["Aasta",{"$f":"Jan!B3","v":2022},{"$f":"Jan!C3","v":0}]
["Kuu","OKTOOBER"]
[{"$nulls":7},"TOIDUPÄEVADE TABEL"]
["Toiduraha jääk kuu alguseks:",null,null,{"$f":"Sep!D45","v":{"v":0,"d":"0.00 €"}},{"$nulls":3},"Nimi","Amet","kalendripäevad"]
["Taara jääk kuu alguseks:",null,null,{"$f":"0","v":{"v":0,"d":"0.00 €"}}]
["SISSETULEK"]
["Kuupäev","Saatedokumendi","Hankefirma","Summa","jääk"]
[null,"nr.",null,null,{"$f":"D43-D32","v":{"v":0,"d":"0.00 €"}},null,null,"LAEVAPERE"]
[{"$nulls":7},{"$f":"Jan!H11","v":0},{"$f":"Jan!I11","v":0}]
[{"$nulls":7},{"$f":"Jan!H12","v":0},{"$f":"Jan!I12","v":0}]
[{"$nulls":7},{"$f":"Jan!H13","v":0},{"$f":"Jan!I13","v":0}]
[{"$nulls":7},{"$f":"Jan!H14","v":0},{"$f":"Jan!I14","v":0}]
[{"$nulls":7},{"$f":"Jan!H15","v":0},{"$f":"Jan!I15","v":0}]
[{"$nulls":7},{"$f":"Jan!H16","v":0},{"$f":"Jan!I16","v":0}]
[{"$nulls":7},{"$f":"Jan!H17","v":0},{"$f":"Jan!I17","v":0}]
[{"$nulls":7},{"$f":"Jan!H18","v":0},{"$f":"Jan!I18","v":0}]
[{"$nulls":7},{"$f":"Jan!H19","v":0},{"$f":"Jan!I19","v":0}]
[{"$nulls":7},{"$f":"Jan!H20","v":0},{"$f":"Jan!I20","v":0}]
[{"$nulls":7},{"$f":"Jan!H21","v":0},{"$f":"Jan!I21","v":0}]
[{"$nulls":7},{"$f":"Jan!H22","v":0},{"$f":"Jan!I22","v":0}]
[{"$nulls":7},{"$f":"Jan!H23","v":0},{"$f":"Jan!I23","v":0}]
[{"$nulls":7},{"$f":"Jan!H24","v":0},{"$f":"Jan!I24","v":0}]
[{"$nulls":7},{"$f":"Jan!H25","v":0},{"$f":"Jan!I25","v":0}]
[{"$nulls":7},{"$f":"Jan!H26","v":0},{"$f":"Jan!I26","v":0}]
[{"$nulls":7},{"$f":"Jan!H27","v":0},{"$f":"Jan!I27","v":0}]
[{"$nulls":7},{"$f":"Jan!H28","v":0},{"$f":"Jan!I28","v":0}]
[{"$nulls":7},{"$f":"Jan!H29","v":0},{"$f":"Jan!I29","v":0}]
[{"$nulls":7},{"$f":"Jan!H30","v":0},{"$f":"Jan!I30","v":0}]
[{"$nulls":7},{"$f":"Jan!H31","v":0},{"$f":"Jan!I31","v":0}]
["Toiduaineid kokku :",null,null,{"$f":"SUM(D11:D31)","v":{"v":0,"d":"0.00 €"}},{"$nulls":3},{"$f":"Jan!H32","v":0},{"$f":"Jan!I32","v":0}]
["Taara kokku:",null,null,{"$f":"0","v":{"v":0,"d":"0.00 €"}},{"$nulls":3},{"$f":"Jan!H33","v":0},{"$f":"Jan!I33","v":0}]
["VÄLJAMINEK",{"$nulls":6},{"$f":"Jan!H34","v":0},{"$f":"Jan!I34","v":0}]
["Laevapere toitlustamine:",null,"päevade arv",{"$f":"SUM(J11:J42)","v":{"v":0,"d":"00"}},{"$nulls":3},{"$f":"Jan!H35","v":0},{"$f":"Jan!I35","v":0}]
[null,null,"päeva maksumus",{"v":0,"d":"0.00 €"},{"$nulls":3},{"$f":"Jan!H36","v":0},{"$f":"Jan!I36","v":0}]
[null,null,"normsumma",{"$f":"D35*D36","v":{"v":0,"d":"0.00 €"}},{"$nulls":3},{"$f":"Jan!H37","v":0},{"$f":"Jan!I37","v":0}]
[null,null,"jääk kuu alguseks",{"$f":"D6","v":{"v":0,"d":"0.00 €"}},{"$nulls":3},{"$f":"Jan!H38","v":0},{"$f":"Jan!I38","v":0}]
["Taara tagastus:",{"$nulls":6},{"$f":"Jan!H39","v":0},{"$f":"Jan!I39","v":0}]
["Muud väljaminekud:",null,"reisijate toitlustamine",{"$f":"IF(SUM(J43:J67)>0,SUM(J43:J67)*D36,\"\")","v":""},{"$nulls":3},{"$f":"Jan!H40","v":0},{"$f":"Jan!I40","v":0}]
[{"$nulls":7},{"$f":"Jan!H41","v":0},{"$f":"Jan!I41","v":0}]
[{"$nulls":7},{"$f":"Jan!H42","v":0},{"$f":"Jan!I42","v":0}]
["Väljaminek kokku:",null,null,{"$f":"D37+SUM(D39:D42)-D38","v":{"v":0,"d":"0.00 €"}},{"$nulls":3},"REISIJAD"]
[]
[null,"JÄÄK","raha",{"$f":"IF(D32>D43,D32-D43,0)","v":{"v":0,"d":"0.00 €"}}]
[null,null,"taara",{"v":0,"d":"0.00 €"}]
["KAPTEN","nimi"]
["Esitamise kuupäev",{"$f":"NOW()","v":"2022-03-07T13:34:29.930"}]
{"$rows_empty":18}
[{"$nulls":10},"Reisijatel kokku",null,{"$f":"SUM(J44:J67)","v":{"v":0,"d":"00"}}]
[{"$nulls":7},{"$f":"1","v":{"v":1,"d":"01"}}]
[{"$nulls":7},"xxx","Toidupäevade arv kokku",{"$f":"SUM(J11:J42,J43:J67)","v":{"v":0,"d":"00"}}]
[]
[{"$nulls":7},"Aruandeperiood",{"$f":"B4","v":"OKTOOBER"},{"$f":"B3","v":2022}]
[{"$nulls":7},"KAPTEN",{"$f":"B47","v":"nimi"}]
[{"$nulls":7},"Esitamise kuupäev",{"$f":"NOW()","v":"2022-03-07T13:34:29.930"}]

{"sheet":"Nov","index":10,"n_rows":73,"n_cols":13,"rows_kept":73,"merged":[[0,0,0,3],[2,2,3,3],[4,0,4,3],[4,7,4,9],[5,7,8,7],[5,8,8,8],[5,9,8,9],[8,0,9,0],[8,2,9,2],[8,3,9,3],[9,7,9,9],[42,7,42,9],[46,1,46,2],[67,7,67,9],[71,8,71,9]]}
["LAEVAPERE TOITLUSTAMISE ARUANNE"]
["LAEVA NIMI",{"$f":"Jan!B2","v":"näide: Suur Tõll"}]
["Aasta",{"$f":"Jan!B3","v":2022},{"$f":"Jan!C3","v":0}]
["Kuu","NOVEMBER"]
[{"$nulls":7},"TOIDUPÄEVADE TABEL"]
["Toiduraha jääk kuu alguseks:",null,null,{"$f":"Okt!D45","v":{"v":0,"d":"0.00 €"}},{"$nulls":3},"Nimi","Amet","kalendripäevad"]
["Taara jääk kuu alguseks:",null,null,{"$f":"0","v":{"v":0,"d":"0.00 €"}}]
["SISSETULEK"]
["Kuupäev","Saatedokumendi","Hankefirma","Summa","jääk"]
[null,"nr.",null,null,{"$f":"D43-D32","v":{"v":0,"d":"0.00 €"}},null,null,"LAEVAPERE"]
[{"$nulls":7},{"$f":"Jan!H11","v":0},{"$f":"Jan!I11","v":0}]
[{"$nulls":7},{"$f":"Jan!H12","v":0},{"$f":"Jan!I12","v":0}]
[{"$nulls":7},{"$f":"Jan!H13","v":0},{"$f":"Jan!I13","v":0}]
[{"$nulls":7},{"$f":"Jan!H14","v":0},{"$f":"Jan!I14","v":0}]
[{"$nulls":7},{"$f":"Jan!H15","v":0},{"$f":"Jan!I15","v":0}]
[{"$nulls":7},{"$f":"Jan!H16","v":0},{"$f":"Jan!I16","v":0}]
[{"$nulls":7},{"$f":"Jan!H17","v":0},{"$f":"Jan!I17","v":0}]
[{"$nulls":7},{"$f":"Jan!H18","v":0},{"$f":"Jan!I18","v":0}]
[{"$nulls":7},{"$f":"Jan!H19","v":0},{"$f":"Jan!I19","v":0}]
[{"$nulls":7},{"$f":"Jan!H20","v":0},{"$f":"Jan!I20","v":0}]
[{"$nulls":7},{"$f":"Jan!H21","v":0},{"$f":"Jan!I21","v":0}]
[{"$nulls":7},{"$f":"Jan!H22","v":0},{"$f":"Jan!I22","v":0}]
[{"$nulls":7},{"$f":"Jan!H23","v":0},{"$f":"Jan!I23","v":0}]
[{"$nulls":7},{"$f":"Jan!H24","v":0},{"$f":"Jan!I24","v":0}]
[{"$nulls":7},{"$f":"Jan!H25","v":0},{"$f":"Jan!I25","v":0}]
[{"$nulls":7},{"$f":"Jan!H26","v":0},{"$f":"Jan!I26","v":0}]
[{"$nulls":7},{"$f":"Jan!H27","v":0},{"$f":"Jan!I27","v":0}]
[{"$nulls":7},{"$f":"Jan!H28","v":0},{"$f":"Jan!I28","v":0}]
[{"$nulls":7},{"$f":"Jan!H29","v":0},{"$f":"Jan!I29","v":0}]
[{"$nulls":7},{"$f":"Jan!H30","v":0},{"$f":"Jan!I30","v":0}]
[{"$nulls":7},{"$f":"Jan!H31","v":0},{"$f":"Jan!I31","v":0}]
["Toiduaineid kokku :",null,null,{"$f":"SUM(D11:D31)","v":{"v":0,"d":"0.00 €"}},{"$nulls":3},{"$f":"Jan!H32","v":0},{"$f":"Jan!I32","v":0}]
["Taara kokku:",null,null,{"$f":"0","v":{"v":0,"d":"0.00 €"}},{"$nulls":3},{"$f":"Jan!H33","v":0},{"$f":"Jan!I33","v":0}]
["VÄLJAMINEK",{"$nulls":6},{"$f":"Jan!H34","v":0},{"$f":"Jan!I34","v":0}]
["Laevapere toitlustamine:",null,"päevade arv",{"$f":"SUM(J11:J42)","v":{"v":0,"d":"00"}},{"$nulls":3},{"$f":"Jan!H35","v":0},{"$f":"Jan!I35","v":0}]
[null,null,"päeva maksumus",{"v":0,"d":"0.00 €"},{"$nulls":3},{"$f":"Jan!H36","v":0},{"$f":"Jan!I36","v":0}]
[null,null,"normsumma",{"$f":"D35*D36","v":{"v":0,"d":"0.00 €"}},{"$nulls":3},{"$f":"Jan!H37","v":0},{"$f":"Jan!I37","v":0}]
[null,null,"jääk kuu alguseks",{"$f":"D6","v":{"v":0,"d":"0.00 €"}},{"$nulls":3},{"$f":"Jan!H38","v":0},{"$f":"Jan!I38","v":0}]
["Taara tagastus:",{"$nulls":6},{"$f":"Jan!H39","v":0},{"$f":"Jan!I39","v":0}]
["Muud väljaminekud:",null,"reisijate toitlustamine",{"$f":"IF(SUM(J43:J67)>0,SUM(J43:J67)*D36,\"\")","v":""},{"$nulls":3},{"$f":"Jan!H40","v":0},{"$f":"Jan!I40","v":0}]
[{"$nulls":7},{"$f":"Jan!H41","v":0},{"$f":"Jan!I41","v":0}]
[{"$nulls":7},{"$f":"Jan!H42","v":0},{"$f":"Jan!I42","v":0}]
["Väljaminek kokku:",null,null,{"$f":"D37+SUM(D39:D42)-D38","v":{"v":0,"d":"0.00 €"}},{"$nulls":3},"REISIJAD"]
[]
[null,"JÄÄK","raha",{"$f":"IF(D32>D43,D32-D43,0)","v":{"v":0,"d":"0.00 €"}}]
[null,null,"taara",{"v":0,"d":"0.00 €"}]
["KAPTEN","nimi"]
["Esitamise kuupäev",{"$f":"NOW()","v":"2022-03-07T13:34:29.930"}]
{"$rows_empty":18}
[{"$nulls":10},"Reisijatel kokku",null,{"$f":"SUM(J44:J67)","v":{"v":0,"d":"00"}}]
[{"$nulls":7},{"$f":"1","v":{"v":1,"d":"01"}}]
[{"$nulls":7},"xxx","Toidupäevade arv kokku",{"$f":"SUM(J11:J42,J43:J67)","v":{"v":0,"d":"00"}}]
[]
[{"$nulls":7},"Aruandeperiood",{"$f":"B4","v":"NOVEMBER"},{"$f":"B3","v":2022}]
[{"$nulls":7},"KAPTEN",{"$f":"B47","v":"nimi"}]
[{"$nulls":7},"Esitamise kuupäev",{"$f":"NOW()","v":"2022-03-07T13:34:29.930"}]

{"sheet":"Dets","index":11,"n_rows":73,"n_cols":13,"rows_kept":73,"merged":[[0,0,0,3],[2,2,3,3],[4,0,4,3],[4,7,4,9],[5,7,8,7],[5,8,8,8],[5,9,8,9],[8,0,9,0],[8,2,9,2],[8,3,9,3],[9,7,9,9],[42,7,42,9],[46,1,46,2],[67,7,67,9],[71,8,71,9]]}
["LAEVAPERE TOITLUSTAMISE ARUANNE"]
["LAEVA NIMI",{"$f":"Jan!B2","v":"näide: Suur Tõll"}]
["Aasta",{"$f":"Jan!B3","v":2022},{"$f":"Jan!C3","v":0}]
["Kuu","DETSEMBER"]
[{"$nulls":7},"TOIDUPÄEVADE TABEL"]
["Toiduraha jääk kuu alguseks:",null,null,{"$f":"Nov!D45","v":{"v":0,"d":"0.00 €"}},{"$nulls":3},"Nimi","Amet","kalendripäevad"]
["Taara jääk kuu alguseks:",null,null,{"$f":"0","v":{"v":0,"d":"0.00 €"}}]
["SISSETULEK"]
["Kuupäev","Saatedokumendi","Hankefirma","Summa","jääk"]
[null,"nr.",null,null,{"$f":"D43-D32","v":{"v":0,"d":"0.00 €"}},null,null,"LAEVAPERE"]
[{"$nulls":7},{"$f":"Jan!H11","v":0},{"$f":"Jan!I11","v":0}]
[{"$nulls":7},{"$f":"Jan!H12","v":0},{"$f":"Jan!I12","v":0}]
[{"$nulls":7},{"$f":"Jan!H13","v":0},{"$f":"Jan!I13","v":0}]
[{"$nulls":7},{"$f":"Jan!H14","v":0},{"$f":"Jan!I14","v":0}]
[{"$nulls":7},{"$f":"Jan!H15","v":0},{"$f":"Jan!I15","v":0}]
[{"$nulls":7},{"$f":"Jan!H16","v":0},{"$f":"Jan!I16","v":0}]
[{"$nulls":7},{"$f":"Jan!H17","v":0},{"$f":"Jan!I17","v":0}]
[{"$nulls":7},{"$f":"Jan!H18","v":0},{"$f":"Jan!I18","v":0}]
[{"$nulls":7},{"$f":"Jan!H19","v":0},{"$f":"Jan!I19","v":0}]
[{"$nulls":7},{"$f":"Jan!H20","v":0},{"$f":"Jan!I20","v":0}]
[{"$nulls":7},{"$f":"Jan!H21","v":0},{"$f":"Jan!I21","v":0}]
[{"$nulls":7},{"$f":"Jan!H22","v":0},{"$f":"Jan!I22","v":0}]
[{"$nulls":7},{"$f":"Jan!H23","v":0},{"$f":"Jan!I23","v":0}]
[{"$nulls":7},{"$f":"Jan!H24","v":0},{"$f":"Jan!I24","v":0}]
[{"$nulls":7},{"$f":"Jan!H25","v":0},{"$f":"Jan!I25","v":0}]
[{"$nulls":7},{"$f":"Jan!H26","v":0},{"$f":"Jan!I26","v":0}]
[{"$nulls":7},{"$f":"Jan!H27","v":0},{"$f":"Jan!I27","v":0}]
[{"$nulls":7},{"$f":"Jan!H28","v":0},{"$f":"Jan!I28","v":0}]
[{"$nulls":7},{"$f":"Jan!H29","v":0},{"$f":"Jan!I29","v":0}]
[{"$nulls":7},{"$f":"Jan!H30","v":0},{"$f":"Jan!I30","v":0}]
[{"$nulls":7},{"$f":"Jan!H31","v":0},{"$f":"Jan!I31","v":0}]
["Toiduaineid kokku :",null,null,{"$f":"SUM(D11:D31)","v":{"v":0,"d":"0.00 €"}},{"$nulls":3},{"$f":"Jan!H32","v":0},{"$f":"Jan!I32","v":0}]
["Taara kokku:",null,null,{"$f":"0","v":{"v":0,"d":"0.00 €"}},{"$nulls":3},{"$f":"Jan!H33","v":0},{"$f":"Jan!I33","v":0}]
["VÄLJAMINEK",{"$nulls":6},{"$f":"Jan!H34","v":0},{"$f":"Jan!I34","v":0}]
["Laevapere toitlustamine:",null,"päevade arv",{"$f":"SUM(J11:J42)","v":{"v":0,"d":"00"}},{"$nulls":3},{"$f":"Jan!H35","v":0},{"$f":"Jan!I35","v":0}]
[null,null,"päeva maksumus",{"v":0,"d":"0.00 €"},{"$nulls":3},{"$f":"Jan!H36","v":0},{"$f":"Jan!I36","v":0}]
[null,null,"normsumma",{"$f":"D35*D36","v":{"v":0,"d":"0.00 €"}},{"$nulls":3},{"$f":"Jan!H37","v":0},{"$f":"Jan!I37","v":0}]
[null,null,"jääk kuu alguseks",{"$f":"D6","v":{"v":0,"d":"0.00 €"}},{"$nulls":3},{"$f":"Jan!H38","v":0},{"$f":"Jan!I38","v":0}]
["Taara tagastus:",{"$nulls":6},{"$f":"Jan!H39","v":0},{"$f":"Jan!I39","v":0}]
["Muud väljaminekud:",null,"reisijate toitlustamine",{"$f":"IF(SUM(J43:J67)>0,SUM(J43:J67)*D36,\"\")","v":""},{"$nulls":3},{"$f":"Jan!H40","v":0},{"$f":"Jan!I40","v":0}]
[{"$nulls":7},{"$f":"Jan!H41","v":0},{"$f":"Jan!I41","v":0}]
[{"$nulls":7},{"$f":"Jan!H42","v":0},{"$f":"Jan!I42","v":0}]
["Väljaminek kokku:",null,null,{"$f":"D37+SUM(D39:D42)-D38","v":{"v":0,"d":"0.00 €"}},{"$nulls":3},"REISIJAD"]
[]
[null,"JÄÄK","raha",{"$f":"IF(D32>D43,D32-D43,0)","v":{"v":0,"d":"0.00 €"}}]
[null,null,"taara",{"v":0,"d":"0.00 €"}]
["KAPTEN","nimi"]
["Esitamise kuupäev",{"$f":"NOW()","v":"2022-03-07T13:34:29.930"}]
{"$rows_empty":18}
[{"$nulls":10},"Reisijatel kokku",null,{"$f":"SUM(J44:J67)","v":{"v":0,"d":"00"}}]
[{"$nulls":7},{"$f":"1","v":{"v":1,"d":"01"}}]
[{"$nulls":7},"xxx","Toidupäevade arv kokku",{"$f":"SUM(J11:J42,J43:J67)","v":{"v":0,"d":"00"}}]
[]
[{"$nulls":7},"Aruandeperiood",{"$f":"B4","v":"DETSEMBER"},{"$f":"B3","v":2022}]
[{"$nulls":7},"KAPTEN",{"$f":"B47","v":"nimi"}]
[{"$nulls":7},"Esitamise kuupäev",{"$f":"NOW()","v":"2022-03-07T13:34:29.930"}]

{"sheet":"Aasta","index":12,"n_rows":15,"n_cols":11,"rows_kept":15,"merged":[[1,3,1,4],[1,6,1,7],[1,9,1,10]]}
["VÄLJAMINEKUD KOKKU",null,null,"TOIDUPÄEVAD KOKKU"]
[{"$f":"Jan!B2","v":"näide: Suur Tõll"},{"$f":"Jan!B3","v":2022},"Protseduur: VA 05 02 Laevade aruandlus","Toidupäevad kokku laevapere+reisijad",null,null,"Toidupäevad kokku laevapere",null,null,"Toidupäevad kokku reisijad"]
["Jaanuar",{"$f":"Jan!D43","v":0},null,"Jaanuar",{"$f":"Jan!J69","v":0},null,"Jaanuar",{"$f":"Jan!D35","v":0},null,"Jaanuar",{"$f":"Jan!M67","v":0}]
["Veebruar",{"$f":"Veb!D43","v":0},null,"Veebruar",{"$f":"Veb!J69","v":0},null,"Veebruar",{"$f":"Veb!D35","v":0},null,"Veebruar",{"$f":"Veb!M67","v":0}]
["Märts",{"$f":"Mär!D43","v":0},null,"Märts",{"$f":"Mär!J69","v":0},null,"Märts",{"$f":"Mär!D35","v":0},null,"Märts",{"$f":"Mär!M67","v":0}]
["Aprill",{"$f":"Apr!D43","v":0},null,"Aprill",{"$f":"Apr!J69","v":0},null,"Aprill",{"$f":"Apr!D35","v":0},null,"Aprill",{"$f":"Apr!M67","v":0}]
["Mai",{"$f":"Mai!D43","v":0},null,"Mai",{"$f":"Mai!J69","v":0},null,"Mai",{"$f":"Mai!D35","v":0},null,"Mai",{"$f":"Mai!M67","v":0}]
["Juuni",{"$f":"Jun!D43","v":0},null,"Juuni",{"$f":"Jun!J69","v":0},null,"Juuni",{"$f":"Jun!D35","v":0},null,"Juuni",{"$f":"Jun!M67","v":0}]
["Juuli",{"$f":"Jul!D43","v":0},null,"Juuli",{"$f":"Jul!J69","v":0},null,"Juuli",{"$f":"Jul!D35","v":0},null,"Juuli",{"$f":"Jul!M67","v":0}]
["August",{"$f":"Aug!D43","v":0},null,"August",{"$f":"Aug!J69","v":0},null,"August",{"$f":"Aug!D35","v":0},null,"August",{"$f":"Aug!M67","v":0}]
["September",{"$f":"Sep!D43","v":0},null,"September",{"$f":"Sep!J69","v":0},null,"September",{"$f":"Sep!D35","v":0},null,"September",{"$f":"Sep!M67","v":0}]
["Oktoober",{"$f":"Okt!D43","v":0},null,"Oktoober",{"$f":"Okt!J69","v":0},null,"Oktoober",{"$f":"Okt!D35","v":0},null,"Oktoober",{"$f":"Okt!M67","v":0}]
["November",{"$f":"Nov!D43","v":0},null,"November",{"$f":"Nov!D57","v":0},null,"November",{"$f":"Nov!D35","v":0},null,"November",{"$f":"Nov!M67","v":0}]
["Detsember",{"$f":"Dets!D43","v":0},null,"Detsember",{"$f":"Dets!J69","v":0},null,"Detsember",{"$f":"Dets!D35","v":0},null,"Detsember",{"$f":"Dets!M67","v":0}]
["SUMMA",{"$f":"SUM(B3:B14)","v":0},null,"SUMMA",{"$f":"SUM(E3:E14)","v":0},null,"SUMMA",{"$f":"SUM(H3:H14)","v":0},null,"SUMMA",{"$f":"SUM(K3:K14)","v":0}]